Package: hummingbird Version: 1.20.0 Command: rm -rf hummingbird.buildbin-libdir && mkdir hummingbird.buildbin-libdir && /Users/biocbuild/BBS/utils/build-universal.sh hummingbird_1.20.0.tar.gz /Library/Frameworks/R.framework/Resources/bin/R hummingbird.buildbin-libdir StartedAt: 2025-11-04 01:45:06 -0500 (Tue, 04 Nov 2025) EndedAt: 2025-11-04 01:45:44 -0500 (Tue, 04 Nov 2025) EllapsedTime: 38.3 seconds RetCode: 0 Status: OK PackageFile: hummingbird_1.20.0.tgz PackageFileSize: 465.6 KiB