Package: hummingbird Version: 1.20.0 Maintainer: Eleni Adam MaintainerEmail: eadam002 at odu.edu git_url: https://git.bioconductor.org/packages/hummingbird git_branch: RELEASE_3_22 git_last_commit: 88acb85 git_last_commit_date: 2025-10-29 11:01:14 -0500 (Wed, 29 Oct 2025)