Package: hpar Version: 1.50.0 Command: chmod a+r hpar -R && E:\biocbuild\bbs-3.21-bioc\R\bin\R.exe CMD build --keep-empty-dirs --no-resave-data hpar StartedAt: 2025-08-14 19:45:57 -0400 (Thu, 14 Aug 2025) EndedAt: 2025-08-14 19:47:54 -0400 (Thu, 14 Aug 2025) EllapsedTime: 117.1 seconds RetCode: 0 Status: OK PackageFile: hpar_1.50.0.tar.gz PackageFileSize: 885.6 KiB