Package: hopach Version: 2.68.0 Command: /Library/Frameworks/R.framework/Resources/bin/R CMD build --keep-empty-dirs --no-resave-data hopach StartedAt: 2025-04-21 17:08:17 -0400 (Mon, 21 Apr 2025) EndedAt: 2025-04-21 17:08:54 -0400 (Mon, 21 Apr 2025) EllapsedTime: 36.5 seconds RetCode: 0 Status: OK PackageFile: hopach_2.68.0.tar.gz PackageFileSize: 1.293 MiB