Package: hopach Version: 2.68.0 Command: rm -rf hopach.buildbin-libdir && mkdir hopach.buildbin-libdir && /Users/biocbuild/BBS/utils/build-universal.sh hopach_2.68.0.tar.gz /Library/Frameworks/R.framework/Resources/bin/R hopach.buildbin-libdir StartedAt: 2025-04-22 00:50:07 -0400 (Tue, 22 Apr 2025) EndedAt: 2025-04-22 00:50:22 -0400 (Tue, 22 Apr 2025) EllapsedTime: 15.1 seconds RetCode: 0 Status: OK PackageFile: hopach_2.68.0.tgz PackageFileSize: 1.075 MiB