Package: hoodscanR Version: 1.8.0 Command: /home/biocbuild/bbs-3.22-bioc/R/bin/R CMD check --install=check:hoodscanR.install-out.txt --library=/home/biocbuild/bbs-3.22-bioc/R/site-library --timings hoodscanR_1.8.0.tar.gz StartedAt: 2025-11-07 00:29:22 -0500 (Fri, 07 Nov 2025) EndedAt: 2025-11-07 00:33:24 -0500 (Fri, 07 Nov 2025) EllapsedTime: 242.3 seconds RetCode: 0 Status: OK CheckDir: hoodscanR.Rcheck Warnings: 0