Package: hoodscanR Version: 1.8.0 Command: /Library/Frameworks/R.framework/Resources/bin/R CMD check --install=check:hoodscanR.install-out.txt --library=/Library/Frameworks/R.framework/Resources/library --no-vignettes --timings hoodscanR_1.8.0.tar.gz StartedAt: 2025-10-31 21:51:15 -0400 (Fri, 31 Oct 2025) EndedAt: 2025-10-31 21:55:35 -0400 (Fri, 31 Oct 2025) EllapsedTime: 259.4 seconds RetCode: 0 Status: OK CheckDir: hoodscanR.Rcheck Warnings: 0