Package: hipathia Version: 3.8.0 Command: /Library/Frameworks/R.framework/Resources/bin/R CMD INSTALL hipathia StartedAt: 2025-10-13 16:21:55 -0400 (Mon, 13 Oct 2025) EndedAt: 2025-10-13 16:23:14 -0400 (Mon, 13 Oct 2025) EllapsedTime: 78.5 seconds RetCode: 0 Status: OK