Package: hicVennDiagram Version: 1.6.0 Command: chmod a+r hicVennDiagram -R && E:\biocbuild\bbs-3.21-bioc\R\bin\R.exe CMD build --keep-empty-dirs --no-resave-data hicVennDiagram StartedAt: 2025-08-14 19:43:39 -0400 (Thu, 14 Aug 2025) EndedAt: 2025-08-14 19:45:52 -0400 (Thu, 14 Aug 2025) EllapsedTime: 133.8 seconds RetCode: 0 Status: OK PackageFile: hicVennDiagram_1.6.0.tar.gz PackageFileSize: 853.4 KiB