Package: hiAnnotator Version: 1.43.1 Command: chmod a+r hiAnnotator -R && F:\biocbuild\bbs-3.22-bioc\R\bin\R.exe CMD build --keep-empty-dirs --no-resave-data hiAnnotator StartedAt: 2025-08-14 20:46:02 -0400 (Thu, 14 Aug 2025) EndedAt: 2025-08-14 20:47:55 -0400 (Thu, 14 Aug 2025) EllapsedTime: 112.5 seconds RetCode: 1 Status: ERROR PackageFile: None PackageFileSize: NA