Package: hiAnnotator Version: 1.42.0 Command: /Library/Frameworks/R.framework/Resources/bin/R CMD check --install=check:hiAnnotator.install-out.txt --library=/Library/Frameworks/R.framework/Resources/library --no-vignettes --timings hiAnnotator_1.42.0.tar.gz StartedAt: 2025-09-26 04:49:40 -0400 (Fri, 26 Sep 2025) EndedAt: 2025-09-26 04:58:03 -0400 (Fri, 26 Sep 2025) EllapsedTime: 502.8 seconds RetCode: 0 Status: OK CheckDir: hiAnnotator.Rcheck Warnings: 0