Package: hermes Version: 1.14.0 Command: /home/biocbuild/R/R/bin/R CMD INSTALL hermes StartedAt: 2025-11-17 21:33:53 -0000 (Mon, 17 Nov 2025) EndedAt: 2025-11-17 21:34:59 -0000 (Mon, 17 Nov 2025) EllapsedTime: 65.8 seconds RetCode: 0 Status: OK