Package: hermes Version: 1.14.0 Command: /home/biocbuild/bbs-3.22-bioc/R/bin/R CMD check --install=check:hermes.install-out.txt --library=/home/biocbuild/bbs-3.22-bioc/R/site-library --timings hermes_1.14.0.tar.gz StartedAt: 2025-11-14 00:31:52 -0500 (Fri, 14 Nov 2025) EndedAt: 2025-11-14 00:40:40 -0500 (Fri, 14 Nov 2025) EllapsedTime: 527.6 seconds RetCode: 0 Status: OK CheckDir: hermes.Rcheck Warnings: 0