Package: hca Version: 1.17.0 Command: F:\biocbuild\bbs-3.22-bioc\R\bin\R.exe CMD check --no-multiarch --install=check:hca.install-out.txt --library=F:\biocbuild\bbs-3.22-bioc\R\library --no-vignettes --timings hca_1.17.0.tar.gz StartedAt: 2025-08-15 04:02:32 -0400 (Fri, 15 Aug 2025) EndedAt: 2025-08-15 04:06:02 -0400 (Fri, 15 Aug 2025) EllapsedTime: 209.8 seconds RetCode: 0 Status: OK CheckDir: hca.Rcheck Warnings: 0