Package: h5vc Version: 2.42.0 Command: E:\biocbuild\bbs-3.21-bioc\R\bin\R.exe CMD INSTALL h5vc StartedAt: 2025-08-14 15:54:24 -0400 (Thu, 14 Aug 2025) EndedAt: 2025-08-14 15:55:10 -0400 (Thu, 14 Aug 2025) EllapsedTime: 46.2 seconds RetCode: 0 Status: OK