Package: h5vc Version: 2.42.0 Command: E:\biocbuild\bbs-3.21-bioc\R\bin\R.exe CMD check --no-multiarch --install=check:h5vc.install-out.txt --library=E:\biocbuild\bbs-3.21-bioc\R\library --no-vignettes --timings h5vc_2.42.0.tar.gz StartedAt: 2025-08-15 02:59:58 -0400 (Fri, 15 Aug 2025) EndedAt: 2025-08-15 03:05:27 -0400 (Fri, 15 Aug 2025) EllapsedTime: 328.8 seconds RetCode: 0 Status: WARNINGS CheckDir: h5vc.Rcheck Warnings: 1