Package: h5vc Version: 2.42.0 Command: rm -rf h5vc.buildbin-libdir && mkdir h5vc.buildbin-libdir && E:\biocbuild\bbs-3.21-bioc\R\bin\R.exe CMD INSTALL --build --library=h5vc.buildbin-libdir h5vc_2.42.0.tar.gz StartedAt: 2025-08-15 09:27:33 -0400 (Fri, 15 Aug 2025) EndedAt: 2025-08-15 09:28:45 -0400 (Fri, 15 Aug 2025) EllapsedTime: 72.1 seconds RetCode: 0 Status: OK PackageFile: h5vc_2.42.0.zip PackageFileSize: 5.902 MiB