Package: h5vc Version: 2.42.0 Command: /Library/Frameworks/R.framework/Resources/bin/R CMD build --keep-empty-dirs --no-resave-data h5vc StartedAt: 2025-10-03 02:00:26 -0400 (Fri, 03 Oct 2025) EndedAt: 2025-10-03 02:05:49 -0400 (Fri, 03 Oct 2025) EllapsedTime: 323.4 seconds RetCode: 0 Status: OK PackageFile: h5vc_2.42.0.tar.gz PackageFileSize: 1.69 MiB