Package: gypsum Version: 1.4.0 Command: E:\biocbuild\bbs-3.21-bioc\R\bin\R.exe CMD check --no-multiarch --install=check:gypsum.install-out.txt --library=E:\biocbuild\bbs-3.21-bioc\R\library --no-vignettes --timings gypsum_1.4.0.tar.gz StartedAt: 2025-08-15 02:59:49 -0400 (Fri, 15 Aug 2025) EndedAt: 2025-08-15 03:00:59 -0400 (Fri, 15 Aug 2025) EllapsedTime: 69.7 seconds RetCode: 0 Status: OK CheckDir: gypsum.Rcheck Warnings: 0