Package: gypsum Version: 1.4.0 Command: /Library/Frameworks/R.framework/Resources/bin/R CMD INSTALL gypsum StartedAt: 2025-09-29 15:12:51 -0400 (Mon, 29 Sep 2025) EndedAt: 2025-09-29 15:13:14 -0400 (Mon, 29 Sep 2025) EllapsedTime: 22.6 seconds RetCode: 0 Status: OK