Package: gtrellis Version: 1.41.0 Command: /home/biocbuild/R/R/bin/R CMD check --install=check:gtrellis.install-out.txt --library=/home/biocbuild/R/R/site-library --no-vignettes --timings gtrellis_1.41.0.tar.gz StartedAt: 2025-10-17 09:53:49 -0000 (Fri, 17 Oct 2025) EndedAt: 2025-10-17 09:57:12 -0000 (Fri, 17 Oct 2025) EllapsedTime: 203.2 seconds RetCode: 0 Status: OK CheckDir: gtrellis.Rcheck Warnings: 0