Package: gtrellis Version: 1.41.0 Command: rm -rf gtrellis.buildbin-libdir && mkdir gtrellis.buildbin-libdir && F:\biocbuild\bbs-3.22-bioc\R\bin\R.exe CMD INSTALL --build --library=gtrellis.buildbin-libdir gtrellis_1.41.0.tar.gz StartedAt: 2025-08-15 10:26:19 -0400 (Fri, 15 Aug 2025) EndedAt: 2025-08-15 10:26:37 -0400 (Fri, 15 Aug 2025) EllapsedTime: 17.7 seconds RetCode: 0 Status: OK PackageFile: gtrellis_1.41.0.zip PackageFileSize: 1.478 MiB