Package: gtrellis Version: 1.42.0 Command: /home/biocbuild/bbs-3.22-bioc/R/bin/R CMD check --install=check:gtrellis.install-out.txt --library=/home/biocbuild/bbs-3.22-bioc/R/site-library --timings gtrellis_1.42.0.tar.gz StartedAt: 2025-11-10 00:29:19 -0500 (Mon, 10 Nov 2025) EndedAt: 2025-11-10 00:33:38 -0500 (Mon, 10 Nov 2025) EllapsedTime: 258.5 seconds RetCode: 0 Status: OK CheckDir: gtrellis.Rcheck Warnings: 0