Package: gtrellis Version: 1.42.0 Command: /home/biocbuild/bbs-3.22-bioc/R/bin/R CMD build --keep-empty-dirs --no-resave-data --md5 gtrellis StartedAt: 2025-11-06 18:01:52 -0500 (Thu, 06 Nov 2025) EndedAt: 2025-11-06 18:04:20 -0500 (Thu, 06 Nov 2025) EllapsedTime: 148.1 seconds RetCode: 0 Status: OK PackageFile: gtrellis_1.42.0.tar.gz PackageFileSize: 2.722 MiB