Package: gscreend Version: 1.24.0 Command: /home/biocbuild/bbs-3.22-bioc/R/bin/R CMD check --install=check:gscreend.install-out.txt --library=/home/biocbuild/bbs-3.22-bioc/R/site-library --timings gscreend_1.24.0.tar.gz StartedAt: 2025-11-10 00:26:31 -0500 (Mon, 10 Nov 2025) EndedAt: 2025-11-10 00:32:10 -0500 (Mon, 10 Nov 2025) EllapsedTime: 338.6 seconds RetCode: 0 Status: OK CheckDir: gscreend.Rcheck Warnings: 0