Package: graph Version: 1.88.0 Command: /home/biocbuild/bbs-3.22-bioc/R/bin/R CMD check --install=check:graph.install-out.txt --library=/home/biocbuild/bbs-3.22-bioc/R/site-library --timings graph_1.88.0.tar.gz StartedAt: 2025-11-10 00:24:15 -0500 (Mon, 10 Nov 2025) EndedAt: 2025-11-10 00:25:22 -0500 (Mon, 10 Nov 2025) EllapsedTime: 67.0 seconds RetCode: 0 Status: OK CheckDir: graph.Rcheck Warnings: 0