Package: graper Version: 1.26.0 Command: /home/biocbuild/bbs-3.22-bioc/R/bin/R CMD INSTALL graper StartedAt: 2025-11-05 15:16:10 -0500 (Wed, 05 Nov 2025) EndedAt: 2025-11-05 15:16:46 -0500 (Wed, 05 Nov 2025) EllapsedTime: 36.5 seconds RetCode: 0 Status: OK