Package: graper Version: 1.26.0 Command: /home/biocbuild/bbs-3.22-bioc/R/bin/R CMD build --keep-empty-dirs --no-resave-data --md5 graper StartedAt: 2025-11-05 18:06:46 -0500 (Wed, 05 Nov 2025) EndedAt: 2025-11-05 18:07:49 -0500 (Wed, 05 Nov 2025) EllapsedTime: 63.0 seconds RetCode: 0 Status: OK PackageFile: graper_1.26.0.tar.gz PackageFileSize: 987.7 KiB