Package: goseq Version: 1.60.0 Command: /Library/Frameworks/R.framework/Resources/bin/R CMD INSTALL goseq StartedAt: 2025-09-25 16:22:28 -0400 (Thu, 25 Sep 2025) EndedAt: 2025-09-25 16:23:44 -0400 (Thu, 25 Sep 2025) EllapsedTime: 75.8 seconds RetCode: 0 Status: OK