Package: goseq Version: 1.60.0 Command: /Library/Frameworks/R.framework/Resources/bin/R CMD check --install=check:goseq.install-out.txt --library=/Library/Frameworks/R.framework/Resources/library --no-vignettes --timings goseq_1.60.0.tar.gz StartedAt: 2025-09-26 04:31:20 -0400 (Fri, 26 Sep 2025) EndedAt: 2025-09-26 04:41:41 -0400 (Fri, 26 Sep 2025) EllapsedTime: 620.6 seconds RetCode: 0 Status: OK CheckDir: goseq.Rcheck Warnings: 0