Package: goatea Version: 1.0.0 Command: /home/biocbuild/R/R/bin/R CMD INSTALL goatea StartedAt: 2025-11-20 22:38:47 -0000 (Thu, 20 Nov 2025) EndedAt: 2025-11-20 22:39:27 -0000 (Thu, 20 Nov 2025) EllapsedTime: 40.2 seconds RetCode: 0 Status: OK