Package: goatea Version: 1.0.0 Command: /Library/Frameworks/R.framework/Resources/bin/R CMD INSTALL goatea StartedAt: 2025-11-10 15:25:02 -0500 (Mon, 10 Nov 2025) EndedAt: 2025-11-10 15:25:13 -0500 (Mon, 10 Nov 2025) EllapsedTime: 11.2 seconds RetCode: 0 Status: OK