Package: goTools Version: 1.83.0 Command: /home/biocbuild/R/R/bin/R CMD INSTALL goTools StartedAt: 2025-10-23 21:01:52 -0000 (Thu, 23 Oct 2025) EndedAt: 2025-10-23 21:02:07 -0000 (Thu, 23 Oct 2025) EllapsedTime: 15.5 seconds RetCode: 0 Status: OK