Package: goTools Version: 1.84.0 Command: /home/biocbuild/bbs-3.22-bioc/R/bin/R CMD check --install=check:goTools.install-out.txt --library=/home/biocbuild/bbs-3.22-bioc/R/site-library --timings goTools_1.84.0.tar.gz StartedAt: 2025-11-03 00:30:42 -0500 (Mon, 03 Nov 2025) EndedAt: 2025-11-03 00:32:51 -0500 (Mon, 03 Nov 2025) EllapsedTime: 129.1 seconds RetCode: 0 Status: OK CheckDir: goTools.Rcheck Warnings: 0