Package: goSorensen Version: 1.10.0 Command: /Library/Frameworks/R.framework/Resources/bin/R CMD build --keep-empty-dirs --no-resave-data goSorensen StartedAt: 2025-10-14 01:32:43 -0400 (Tue, 14 Oct 2025) EndedAt: 2025-10-14 01:37:12 -0400 (Tue, 14 Oct 2025) EllapsedTime: 268.8 seconds RetCode: 0 Status: OK PackageFile: goSorensen_1.10.0.tar.gz PackageFileSize: 932.5 KiB