Package: goSorensen Version: 1.10.0 Command: rm -rf goSorensen.buildbin-libdir && mkdir goSorensen.buildbin-libdir && /Users/biocbuild/BBS/utils/build-universal.sh goSorensen_1.10.0.tar.gz /Library/Frameworks/R.framework/Resources/bin/R goSorensen.buildbin-libdir StartedAt: 2025-10-15 18:45:42 -0400 (Wed, 15 Oct 2025) EndedAt: 2025-10-15 18:46:01 -0400 (Wed, 15 Oct 2025) EllapsedTime: 18.9 seconds RetCode: 0 Status: OK PackageFile: goSorensen_1.10.0.tgz PackageFileSize: 1.092 MiB