Package: goProfiles Version: 1.71.0 Command: /home/biocbuild/R/R/bin/R CMD build --keep-empty-dirs --no-resave-data goProfiles StartedAt: 2025-10-21 00:14:56 -0000 (Tue, 21 Oct 2025) EndedAt: 2025-10-21 00:15:45 -0000 (Tue, 21 Oct 2025) EllapsedTime: 49.0 seconds RetCode: 0 Status: OK PackageFile: goProfiles_1.71.0.tar.gz PackageFileSize: 285.3 KiB