Package: goProfiles Version: 1.72.0 Command: /home/biocbuild/bbs-3.22-bioc/R/bin/R CMD INSTALL goProfiles StartedAt: 2025-11-10 15:47:48 -0500 (Mon, 10 Nov 2025) EndedAt: 2025-11-10 15:48:04 -0500 (Mon, 10 Nov 2025) EllapsedTime: 15.4 seconds RetCode: 0 Status: OK