Package: goProfiles Version: 1.72.0 Command: /home/biocbuild/bbs-3.22-bioc/R/bin/R CMD build --keep-empty-dirs --no-resave-data --md5 goProfiles StartedAt: 2025-11-10 18:02:31 -0500 (Mon, 10 Nov 2025) EndedAt: 2025-11-10 18:03:08 -0500 (Mon, 10 Nov 2025) EllapsedTime: 37.0 seconds RetCode: 0 Status: OK PackageFile: goProfiles_1.72.0.tar.gz PackageFileSize: 293.2 KiB