Package: gmoviz Version: 1.22.0 Command: /home/biocbuild/R/R/bin/R CMD build --keep-empty-dirs --no-resave-data gmoviz StartedAt: 2025-11-14 02:14:24 -0000 (Fri, 14 Nov 2025) EndedAt: 2025-11-14 02:16:54 -0000 (Fri, 14 Nov 2025) EllapsedTime: 150.0 seconds RetCode: 0 Status: OK PackageFile: gmoviz_1.22.0.tar.gz PackageFileSize: 4.254 MiB