Package: gmoviz Version: 1.22.0 Command: /home/biocbuild/bbs-3.22-bioc/R/bin/R CMD check --install=check:gmoviz.install-out.txt --library=/home/biocbuild/bbs-3.22-bioc/R/site-library --timings gmoviz_1.22.0.tar.gz StartedAt: 2025-11-15 00:17:34 -0500 (Sat, 15 Nov 2025) EndedAt: 2025-11-15 00:23:09 -0500 (Sat, 15 Nov 2025) EllapsedTime: 334.3 seconds RetCode: 0 Status: OK CheckDir: gmoviz.Rcheck Warnings: 0