Package: gmoviz Version: 1.22.0 Command: /home/biocbuild/bbs-3.22-bioc/R/bin/R CMD build --keep-empty-dirs --no-resave-data --md5 gmoviz StartedAt: 2025-11-14 17:59:11 -0500 (Fri, 14 Nov 2025) EndedAt: 2025-11-14 18:00:52 -0500 (Fri, 14 Nov 2025) EllapsedTime: 101.1 seconds RetCode: 0 Status: OK PackageFile: gmoviz_1.22.0.tar.gz PackageFileSize: 4.252 MiB