Package: gmoviz Version: 1.22.0 Command: /Library/Frameworks/R.framework/Resources/bin/R CMD check --install=check:gmoviz.install-out.txt --library=/Library/Frameworks/R.framework/Resources/library --no-vignettes --timings gmoviz_1.22.0.tar.gz StartedAt: 2025-11-03 21:37:59 -0500 (Mon, 03 Nov 2025) EndedAt: 2025-11-03 21:42:55 -0500 (Mon, 03 Nov 2025) EllapsedTime: 295.6 seconds RetCode: 0 Status: OK CheckDir: gmoviz.Rcheck Warnings: 0