Package: gmoviz Version: 1.22.0 Command: /Library/Frameworks/R.framework/Resources/bin/R CMD build --keep-empty-dirs --no-resave-data gmoviz StartedAt: 2025-11-03 17:12:50 -0500 (Mon, 03 Nov 2025) EndedAt: 2025-11-03 17:14:53 -0500 (Mon, 03 Nov 2025) EllapsedTime: 123.0 seconds RetCode: 0 Status: OK PackageFile: gmoviz_1.22.0.tar.gz PackageFileSize: 6.67 MiB