Package: gmoviz Version: 1.22.0 Command: rm -rf gmoviz.buildbin-libdir && mkdir gmoviz.buildbin-libdir && /Users/biocbuild/BBS/utils/build-universal.sh gmoviz_1.22.0.tar.gz /Library/Frameworks/R.framework/Resources/bin/R gmoviz.buildbin-libdir StartedAt: 2025-11-10 23:22:11 -0500 (Mon, 10 Nov 2025) EndedAt: 2025-11-10 23:22:27 -0500 (Mon, 10 Nov 2025) EllapsedTime: 16.3 seconds RetCode: 0 Status: OK PackageFile: gmoviz_1.22.0.tgz PackageFileSize: 6.723 MiB