Package: gmoviz Version: 1.22.0 Maintainer: Kathleen Zeglinski MaintainerEmail: kathleen.zeglinski at csl.com.au git_url: https://git.bioconductor.org/packages/gmoviz git_branch: RELEASE_3_22 git_last_commit: 64c2454 git_last_commit_date: 2025-10-29 10:57:48 -0500 (Wed, 29 Oct 2025)