Package: gmapR Version: 1.51.1 Command: /home/biocbuild/R/R/bin/R CMD build --keep-empty-dirs --no-resave-data gmapR StartedAt: 2025-10-21 00:12:03 -0000 (Tue, 21 Oct 2025) EndedAt: 2025-10-21 00:22:52 -0000 (Tue, 21 Oct 2025) EllapsedTime: 649.3 seconds RetCode: 1 Status: ERROR PackageFile: None PackageFileSize: NA