Package: gmapR Version: 1.52.0 Command: /home/biocbuild/bbs-3.22-bioc/R/bin/R CMD INSTALL gmapR StartedAt: 2025-11-06 15:40:40 -0500 (Thu, 06 Nov 2025) EndedAt: 2025-11-06 15:47:46 -0500 (Thu, 06 Nov 2025) EllapsedTime: 425.6 seconds RetCode: 0 Status: OK