Package: gmapR Version: 1.52.0 Command: /home/biocbuild/bbs-3.22-bioc/R/bin/R CMD build --keep-empty-dirs --no-resave-data --md5 gmapR StartedAt: 2025-11-06 17:54:33 -0500 (Thu, 06 Nov 2025) EndedAt: 2025-11-06 18:01:52 -0500 (Thu, 06 Nov 2025) EllapsedTime: 439.3 seconds RetCode: 1 Status: ERROR PackageFile: None PackageFileSize: NA