Package: gmapR Version: 1.52.0 Command: /Library/Frameworks/R.framework/Resources/bin/R CMD build --keep-empty-dirs --no-resave-data gmapR StartedAt: 2025-11-03 17:12:41 -0500 (Mon, 03 Nov 2025) EndedAt: 2025-11-03 17:20:55 -0500 (Mon, 03 Nov 2025) EllapsedTime: 494.3 seconds RetCode: 1 Status: ERROR PackageFile: None PackageFileSize: NA